BEGIN:VCALENDAR
VERSION:2.0
PRODID:spatie/icalendar-generator
NAME:Neue Wege im Handwerk: Exoskelett\, 3D-Druck und Kreislaufwirtschaft [
 ZUKUNFT HANDWERK 2026]
X-WR-CALNAME:Neue Wege im Handwerk: Exoskelett\, 3D-Druck und Kreislaufwirt
 schaft [ZUKUNFT HANDWERK 2026]
BEGIN:VTIMEZONE
TZID:Europe/Zurich
BEGIN:STANDARD
DTSTART:20251026T030000
TZOFFSETFROM:+0200
TZOFFSETTO:+0100
END:STANDARD
BEGIN:DAYLIGHT
DTSTART:20260329T020000
TZOFFSETFROM:+0100
TZOFFSETTO:+0200
END:DAYLIGHT
END:VTIMEZONE
BEGIN:VTIMEZONE
TZID:UTC
BEGIN:STANDARD
DTSTART:20250724T132309
TZOFFSETFROM:+0000
TZOFFSETTO:+0000
END:STANDARD
END:VTIMEZONE
BEGIN:VEVENT
UID:69e628bd62d48
DTSTAMP:20260420T132309Z
DTSTART;TZID=Europe/Zurich:20260304T160000
DTEND;TZID=Europe/Zurich:20260304T163000
SUMMARY:Neue Wege im Handwerk: Exoskelett\, 3D-Druck und Kreislaufwirtschaf
 t [ZUKUNFT HANDWERK 2026]
DESCRIPTION:https://connect.zukunfthandwerk.com/de/e/neue-wege-im-handwerk-
 exoskelett-3d-druck-und-kreislaufwirtschaft.77394\n\nDer Vortrag gibt eine
 n kompakten Überblick über drei aktuelle Innovationsstränge der Festool
  New Business Unit: Exoskelett\, 3D-Druck und Kreislaufwirtschaft
LOCATION:Halle B0\, ICM
END:VEVENT
END:VCALENDAR