BEGIN:VCALENDAR
VERSION:2.0
PRODID:spatie/icalendar-generator
NAME:ExoActive - Innovation\, die trägt. Einblicke\, Use Cases & Live-Test
  [ZUKUNFT HANDWERK 2026]
X-WR-CALNAME:ExoActive - Innovation\, die trägt. Einblicke\, Use Cases & L
 ive-Test [ZUKUNFT HANDWERK 2026]
BEGIN:VTIMEZONE
TZID:Europe/Zurich
BEGIN:STANDARD
DTSTART:20251026T030000
TZOFFSETFROM:+0200
TZOFFSETTO:+0100
END:STANDARD
BEGIN:DAYLIGHT
DTSTART:20260329T020000
TZOFFSETFROM:+0100
TZOFFSETTO:+0200
END:DAYLIGHT
END:VTIMEZONE
BEGIN:VTIMEZONE
TZID:UTC
BEGIN:STANDARD
DTSTART:20250724T132329
TZOFFSETFROM:+0000
TZOFFSETTO:+0000
END:STANDARD
END:VTIMEZONE
BEGIN:VEVENT
UID:69e628d13d170
DTSTAMP:20260420T132329Z
DTSTART;TZID=Europe/Zurich:20260304T170000
DTEND;TZID=Europe/Zurich:20260304T180000
SUMMARY:ExoActive - Innovation\, die trägt. Einblicke\, Use Cases & Live-T
 est [ZUKUNFT HANDWERK 2026]
DESCRIPTION:https://connect.zukunfthandwerk.com/de/e/exoactive-innovation-d
 ie-traegt-einblicke-use-cases-live-test.77395\n\nIm Workshop stellen wir d
 etailliert die Funktionen des ExoActive\, des ersten aktiven Exoskeletts s
 peziell für das Handwerk\, vor. Das System ist für Tätigkeiten vor der 
 Brust sowie in Überkopfhöhe konzipiert und unterstützt Handwerkende in 
 körperlich anspruchsvollen Arbeitssituationen.
LOCATION:Halle B0\, ICM
END:VEVENT
END:VCALENDAR