BEGIN:VCALENDAR
VERSION:2.0
PRODID:spatie/icalendar-generator
NAME:Erfolgreich mit Startups kooperieren - Chancen für das Handwerk [ZUKU
 NFT HANDWERK 2026]
X-WR-CALNAME:Erfolgreich mit Startups kooperieren - Chancen für das Handwe
 rk [ZUKUNFT HANDWERK 2026]
BEGIN:VTIMEZONE
TZID:Europe/Zurich
BEGIN:STANDARD
DTSTART:20251026T030000
TZOFFSETFROM:+0200
TZOFFSETTO:+0100
END:STANDARD
BEGIN:DAYLIGHT
DTSTART:20260329T020000
TZOFFSETFROM:+0100
TZOFFSETTO:+0200
END:DAYLIGHT
END:VTIMEZONE
BEGIN:VTIMEZONE
TZID:UTC
BEGIN:STANDARD
DTSTART:20250724T120845
TZOFFSETFROM:+0000
TZOFFSETTO:+0000
END:STANDARD
END:VTIMEZONE
BEGIN:VEVENT
UID:69e6174d20782
DTSTAMP:20260420T120845Z
DTSTART;TZID=Europe/Zurich:20260305T113000
DTEND;TZID=Europe/Zurich:20260305T120000
SUMMARY:Erfolgreich mit Startups kooperieren - Chancen für das Handwerk [Z
 UKUNFT HANDWERK 2026]
DESCRIPTION:https://connect.zukunfthandwerk.com/de/e/erfolgreich-mit-startu
 ps-kooperieren-chancen-fuer-das-handwerk.77439\n\nIn dem Vortrag werden di
 e Besonderheiten der Startups sowie die Unterschiede gegenüber etablierte
 n Unternehmen verdeutlicht. Anhand einiger konkreter Beispiele erfolgreich
 er Startup-KMU Kooperationen werden die Potentiale und auch Risiken verdeu
 tlicht.
LOCATION:Halle B0\, ICM
END:VEVENT
END:VCALENDAR