BEGIN:VCALENDAR
VERSION:2.0
PRODID:spatie/icalendar-generator
NAME:Ein Chatbot\, zwei Welten: KI aus der DigiWerkstatt für Betriebe und 
 Verbände [ZUKUNFT HANDWERK 2026]
X-WR-CALNAME:Ein Chatbot\, zwei Welten: KI aus der DigiWerkstatt für Betri
 ebe und Verbände [ZUKUNFT HANDWERK 2026]
BEGIN:VTIMEZONE
TZID:Europe/Zurich
BEGIN:STANDARD
DTSTART:20251026T030000
TZOFFSETFROM:+0200
TZOFFSETTO:+0100
END:STANDARD
BEGIN:DAYLIGHT
DTSTART:20260329T020000
TZOFFSETFROM:+0100
TZOFFSETTO:+0200
END:DAYLIGHT
END:VTIMEZONE
BEGIN:VTIMEZONE
TZID:UTC
BEGIN:STANDARD
DTSTART:20250724T120850
TZOFFSETFROM:+0000
TZOFFSETTO:+0000
END:STANDARD
END:VTIMEZONE
BEGIN:VEVENT
UID:69e6175222dee
DTSTAMP:20260420T120850Z
DTSTART;TZID=Europe/Zurich:20260305T100000
DTEND;TZID=Europe/Zurich:20260305T110000
SUMMARY:Ein Chatbot\, zwei Welten: KI aus der DigiWerkstatt für Betriebe u
 nd Verbände [ZUKUNFT HANDWERK 2026]
DESCRIPTION:https://connect.zukunfthandwerk.com/de/e/ein-chatbot-zwei-welte
 n-ki-aus-der-digiwerkstatt-fuer-betriebe-und-verbaende.77544\n\nKünstlich
 e Intelligenz im Handwerk scheitert selten an der Technik – sondern an f
 ehlender Praxisnähe. In diesem Workshop zeigen wir zwei reale KI-Anwendun
 gen aus der Digitalisierungswerkstatt Künstliche Intelligenz des Mittelst
 and-Digital Zentrums Handwerks.
LOCATION:Halle B0\, ICM
END:VEVENT
END:VCALENDAR