BEGIN:VCALENDAR
VERSION:2.0
PRODID:spatie/icalendar-generator
NAME:Wissen bündeln\, smart entscheiden\, besser investieren. [ZUKUNFT HAN
 DWERK 2026]
X-WR-CALNAME:Wissen bündeln\, smart entscheiden\, besser investieren. [ZUK
 UNFT HANDWERK 2026]
BEGIN:VTIMEZONE
TZID:Europe/Zurich
BEGIN:STANDARD
DTSTART:20251026T030000
TZOFFSETFROM:+0200
TZOFFSETTO:+0100
END:STANDARD
BEGIN:DAYLIGHT
DTSTART:20260329T020000
TZOFFSETFROM:+0100
TZOFFSETTO:+0200
END:DAYLIGHT
END:VTIMEZONE
BEGIN:VTIMEZONE
TZID:UTC
BEGIN:STANDARD
DTSTART:20250724T134146
TZOFFSETFROM:+0000
TZOFFSETTO:+0000
END:STANDARD
END:VTIMEZONE
BEGIN:VEVENT
UID:69e62d1a7afd0
DTSTAMP:20260420T134146Z
DTSTART;TZID=Europe/Zurich:20260305T120000
DTEND;TZID=Europe/Zurich:20260305T130000
SUMMARY:Wissen bündeln\, smart entscheiden\, besser investieren. [ZUKUNFT 
 HANDWERK 2026]
DESCRIPTION:https://connect.zukunfthandwerk.com/de/e/wissen-buendeln-smart-
 entscheiden-besser-investieren.77546\n\nFür Industrie und Start-ups eröf
 fnet Make Innovation Handwerk die Chance\, durch strukturierte Zusammenarb
 eit mit dem Handwerk Wissen zu bündeln\, Perspektiven frühzeitig einzube
 ziehen und fundierte Entscheidungsgrundlagen zu schaffen.
LOCATION:Halle B0\, ICM
END:VEVENT
END:VCALENDAR