BEGIN:VCALENDAR
VERSION:2.0
PRODID:spatie/icalendar-generator
NAME:Im Rahmen der Eröffnung: Austausch mit den Siegerinnen und Siegern de
 r EuroSkills 2025 [ZUKUNFT HANDWERK 2026]
X-WR-CALNAME:Im Rahmen der Eröffnung: Austausch mit den Siegerinnen und Si
 egern der EuroSkills 2025 [ZUKUNFT HANDWERK 2026]
BEGIN:VTIMEZONE
TZID:Europe/Zurich
BEGIN:STANDARD
DTSTART:20251026T030000
TZOFFSETFROM:+0200
TZOFFSETTO:+0100
END:STANDARD
BEGIN:DAYLIGHT
DTSTART:20260329T020000
TZOFFSETFROM:+0100
TZOFFSETTO:+0200
END:DAYLIGHT
END:VTIMEZONE
BEGIN:VTIMEZONE
TZID:UTC
BEGIN:STANDARD
DTSTART:20250724T134156
TZOFFSETFROM:+0000
TZOFFSETTO:+0000
END:STANDARD
END:VTIMEZONE
BEGIN:VEVENT
UID:69e62d247808b
DTSTAMP:20260420T134156Z
DTSTART;TZID=Europe/Zurich:20260304T111500
DTEND;TZID=Europe/Zurich:20260304T113000
SUMMARY:Im Rahmen der Eröffnung: Austausch mit den Siegerinnen und Siegern
  der EuroSkills 2025 [ZUKUNFT HANDWERK 2026]
DESCRIPTION:https://connect.zukunfthandwerk.com/de/e/im-rahmen-der-eroeffnu
 ng-austausch-mit-den-siegerinnen-und-siegern-der-euroskills-2025.77553\n\n
 Die EuroSkills 2025 fanden vom 9. bis 13. September 2025 im MCH Messecente
 r Herning in Dänemark statt. Dabei traten rund 600 junge Fachkräfte aus 
 32 europäischen Ländern gegeneinander an\, um in 38 verschiedenen Berufs
 disziplinen die besten Nachwuchsprofis Europas zu ermitteln.
LOCATION:ICM\, Saal 14b
END:VEVENT
END:VCALENDAR