BEGIN:VCALENDAR
VERSION:2.0
PRODID:spatie/icalendar-generator
NAME:„Zwischen Innovation und Regulierung: KI in der überbetrieblichen A
 usbildung“ [ZUKUNFT HANDWERK 2026]
X-WR-CALNAME:„Zwischen Innovation und Regulierung: KI in der überbetrieb
 lichen Ausbildung“ [ZUKUNFT HANDWERK 2026]
BEGIN:VTIMEZONE
TZID:Europe/Zurich
BEGIN:STANDARD
DTSTART:20251026T030000
TZOFFSETFROM:+0200
TZOFFSETTO:+0100
END:STANDARD
BEGIN:DAYLIGHT
DTSTART:20260329T020000
TZOFFSETFROM:+0100
TZOFFSETTO:+0200
END:DAYLIGHT
END:VTIMEZONE
BEGIN:VTIMEZONE
TZID:UTC
BEGIN:STANDARD
DTSTART:20250724T124931
TZOFFSETFROM:+0000
TZOFFSETTO:+0000
END:STANDARD
END:VTIMEZONE
BEGIN:VEVENT
UID:69e620dba3e39
DTSTAMP:20260420T124931Z
DTSTART;TZID=Europe/Zurich:20260305T153000
DTEND;TZID=Europe/Zurich:20260305T160000
SUMMARY:„Zwischen Innovation und Regulierung: KI in der überbetriebliche
 n Ausbildung“ [ZUKUNFT HANDWERK 2026]
DESCRIPTION:https://connect.zukunfthandwerk.com/de/e/zwischen-innovation-un
 d-regulierung-ki-in-der-ueberbetrieblichen-ausbildung.77756\n\nDieser Vort
 rag beleuchtet\, wie Künstliche Intelligenz praxisnah und verantwortungsv
 oll in der Ausbildung eingesetzt werden kann. Am Beispiel des Projekts KIg
 ÜBA wird gezeigt\, wie Echtzeit- und adaptive Lernbegleitung die Ausbildu
 ngsqualität verbessern und Ausbilder gezielt entlasten.
LOCATION:Halle B0\, ICM
END:VEVENT
END:VCALENDAR