BEGIN:VCALENDAR
VERSION:2.0
PRODID:spatie/icalendar-generator
NAME:SIGNAL IDUNA & Perseus - Gemeinsam Cyber-Risiken beherrschbar machen [
 ZUKUNFT HANDWERK 2026]
X-WR-CALNAME:SIGNAL IDUNA & Perseus - Gemeinsam Cyber-Risiken beherrschbar 
 machen [ZUKUNFT HANDWERK 2026]
BEGIN:VTIMEZONE
TZID:Europe/Zurich
BEGIN:STANDARD
DTSTART:20251026T030000
TZOFFSETFROM:+0200
TZOFFSETTO:+0100
END:STANDARD
BEGIN:DAYLIGHT
DTSTART:20260329T020000
TZOFFSETFROM:+0100
TZOFFSETTO:+0200
END:DAYLIGHT
END:VTIMEZONE
BEGIN:VTIMEZONE
TZID:UTC
BEGIN:STANDARD
DTSTART:20250724T134241
TZOFFSETFROM:+0000
TZOFFSETTO:+0000
END:STANDARD
END:VTIMEZONE
BEGIN:VEVENT
UID:69e62d51e60d6
DTSTAMP:20260420T134241Z
DTSTART;TZID=Europe/Zurich:20260304T120000
DTEND;TZID=Europe/Zurich:20260304T123000
SUMMARY:SIGNAL IDUNA & Perseus - Gemeinsam Cyber-Risiken beherrschbar mache
 n [ZUKUNFT HANDWERK 2026]
DESCRIPTION:https://connect.zukunfthandwerk.com/de/e/signal-iduna-perseus-g
 emeinsam-cyber-risiken-beherrschbar-machen.77761\n\nCyber-Risiken in der P
 raxis beherrschbar machen\, durch Cyber-Versicherung\, ergänzt um präven
 tive Maßnahmen\, fundierte Risikobewertung und schnelle Hilfe.
LOCATION:Halle B0\, ICM
END:VEVENT
END:VCALENDAR