BEGIN:VCALENDAR
VERSION:2.0
PRODID:spatie/icalendar-generator
NAME:Sichern\, was wirklich zählt: Ihr Einkommen\, Ihren Lebensstandard\, 
 Ihre Zukunft [ZUKUNFT HANDWERK 2026]
X-WR-CALNAME:Sichern\, was wirklich zählt: Ihr Einkommen\, Ihren Lebenssta
 ndard\, Ihre Zukunft [ZUKUNFT HANDWERK 2026]
BEGIN:VTIMEZONE
TZID:Europe/Zurich
BEGIN:STANDARD
DTSTART:20251026T030000
TZOFFSETFROM:+0200
TZOFFSETTO:+0100
END:STANDARD
BEGIN:DAYLIGHT
DTSTART:20260329T020000
TZOFFSETFROM:+0100
TZOFFSETTO:+0200
END:DAYLIGHT
END:VTIMEZONE
BEGIN:VTIMEZONE
TZID:UTC
BEGIN:STANDARD
DTSTART:20250724T154118
TZOFFSETFROM:+0000
TZOFFSETTO:+0000
END:STANDARD
END:VTIMEZONE
BEGIN:VEVENT
UID:69e6491e5512a
DTSTAMP:20260420T154118Z
DTSTART;TZID=Europe/Zurich:20260305T103000
DTEND;TZID=Europe/Zurich:20260305T110000
SUMMARY:Sichern\, was wirklich zählt: Ihr Einkommen\, Ihren Lebensstandard
 \, Ihre Zukunft [ZUKUNFT HANDWERK 2026]
DESCRIPTION:https://connect.zukunfthandwerk.com/de/e/sichern-was-wirklich-z
 aehlt-ihr-einkommen-ihren-lebensstandard-ihre-zukunft.77762\n\nIhre Arbeit
 skraft ist das Fundament für alles\, was Sie sich aufgebaut haben. Doch w
 as geschieht mit Ihrem Lebensstandard und Ihren privaten Plänen\, wenn Si
 e aus gesundheitlichen Gründen pausieren müssen?
LOCATION:Halle B0\, ICM
END:VEVENT
END:VCALENDAR