BEGIN:VCALENDAR
VERSION:2.0
PRODID:spatie/icalendar-generator
NAME:Die Zukunft des Handwerks: Mit digitalen Zahlungen zu mehr Effizienz u
 nd Vertrauen [ZUKUNFT HANDWERK 2026]
X-WR-CALNAME:Die Zukunft des Handwerks: Mit digitalen Zahlungen zu mehr Eff
 izienz und Vertrauen [ZUKUNFT HANDWERK 2026]
BEGIN:VTIMEZONE
TZID:Europe/Zurich
BEGIN:STANDARD
DTSTART:20251026T030000
TZOFFSETFROM:+0200
TZOFFSETTO:+0100
END:STANDARD
BEGIN:DAYLIGHT
DTSTART:20260329T020000
TZOFFSETFROM:+0100
TZOFFSETTO:+0200
END:DAYLIGHT
END:VTIMEZONE
BEGIN:VTIMEZONE
TZID:UTC
BEGIN:STANDARD
DTSTART:20250724T120855
TZOFFSETFROM:+0000
TZOFFSETTO:+0000
END:STANDARD
END:VTIMEZONE
BEGIN:VEVENT
UID:69e61757212fc
DTSTAMP:20260420T120855Z
DTSTART;TZID=Europe/Zurich:20260305T133000
DTEND;TZID=Europe/Zurich:20260305T140000
SUMMARY:Die Zukunft des Handwerks: Mit digitalen Zahlungen zu mehr Effizien
 z und Vertrauen [ZUKUNFT HANDWERK 2026]
DESCRIPTION:https://connect.zukunfthandwerk.com/de/e/die-zukunft-des-handwe
 rks-mit-digitalen-zahlungen-zu-mehr-effizienz-und-vertrauen.77869\n\nDie P
 räsentation zeigt\, wie digitale Zahlungslösungen Handwerksbetriebe entl
 ang ihrer gesamten Wertschöpfungskette unterstützen – von der Auftrags
 gewinnung bis zur Sicherung der Liquidität.
LOCATION:Halle B0\, ICM
END:VEVENT
END:VCALENDAR