BEGIN:VCALENDAR
VERSION:2.0
PRODID:spatie/icalendar-generator
NAME:\"Prompt Injections\, Datenlecks & Co.: Was KI heute verwundbar macht\
 " [ZUKUNFT HANDWERK 2026]
X-WR-CALNAME:\"Prompt Injections\, Datenlecks & Co.: Was KI heute verwundba
 r macht\" [ZUKUNFT HANDWERK 2026]
BEGIN:VTIMEZONE
TZID:Europe/Zurich
BEGIN:STANDARD
DTSTART:20251026T030000
TZOFFSETFROM:+0200
TZOFFSETTO:+0100
END:STANDARD
BEGIN:DAYLIGHT
DTSTART:20260329T020000
TZOFFSETFROM:+0100
TZOFFSETTO:+0200
END:DAYLIGHT
END:VTIMEZONE
BEGIN:VTIMEZONE
TZID:UTC
BEGIN:STANDARD
DTSTART:20250724T101006
TZOFFSETFROM:+0000
TZOFFSETTO:+0000
END:STANDARD
END:VTIMEZONE
BEGIN:VEVENT
UID:69e5fb7ed65c5
DTSTAMP:20260420T101006Z
DTSTART;TZID=Europe/Zurich:20260305T150000
DTEND;TZID=Europe/Zurich:20260305T151500
SUMMARY:\"Prompt Injections\, Datenlecks & Co.: Was KI heute verwundbar mac
 ht\" [ZUKUNFT HANDWERK 2026]
DESCRIPTION:https://connect.zukunfthandwerk.com/de/e/prompt-injections-date
 nlecks-co-was-ki-heute-verwundbar-macht.78018\n\nCybersicherheit muß im K
 I Zeitalter grundlegend neu gedacht werden\, da KI Systeme komplett neue A
 ngriffsflächen für Cyberattacken bieten. Im Vortrag weisen wir anhand vo
 n Beispielen auf die Sicherheits-Schwachstellen von Sprachmodellen wie Cha
 tGPT hin.
LOCATION:Halle B0\, ICM
END:VEVENT
END:VCALENDAR