BEGIN:VCALENDAR
VERSION:2.0
PRODID:spatie/icalendar-generator
NAME:\"Excel-Automatisierung mit dem Agenten-Tool Claude Cowork\" [ZUKUNFT 
 HANDWERK 2026]
X-WR-CALNAME:\"Excel-Automatisierung mit dem Agenten-Tool Claude Cowork\" [
 ZUKUNFT HANDWERK 2026]
BEGIN:VTIMEZONE
TZID:Europe/Zurich
BEGIN:STANDARD
DTSTART:20251026T030000
TZOFFSETFROM:+0200
TZOFFSETTO:+0100
END:STANDARD
BEGIN:DAYLIGHT
DTSTART:20260329T020000
TZOFFSETFROM:+0100
TZOFFSETTO:+0200
END:DAYLIGHT
END:VTIMEZONE
BEGIN:VTIMEZONE
TZID:UTC
BEGIN:STANDARD
DTSTART:20250726T104833
TZOFFSETFROM:+0000
TZOFFSETTO:+0000
END:STANDARD
END:VTIMEZONE
BEGIN:VEVENT
UID:69e8a781a7788
DTSTAMP:20260422T104833Z
DTSTART;TZID=Europe/Zurich:20260305T151500
DTEND;TZID=Europe/Zurich:20260305T153000
SUMMARY:\"Excel-Automatisierung mit dem Agenten-Tool Claude Cowork\" [ZUKUN
 FT HANDWERK 2026]
DESCRIPTION:https://connect.zukunfthandwerk.com/de/e/excel-automatisierung-
 mit-dem-agenten-tool-claude-cowork.78042\n\nViele Handwerksbetriebe arbeit
 en täglich mit Excel. Dabei oft mit großem Zeitaufwand und manuellen Rou
 tinen. In diesem 15-minütigen Vortrag erhalten Teilnehmer einen kompakten
  Einstieg in Claude Cowork.
LOCATION:Halle B0\, ICM
END:VEVENT
END:VCALENDAR