BEGIN:VCALENDAR
VERSION:2.0
PRODID:spatie/icalendar-generator
NAME:Eröffnung SIGNAL IDUNA Forum [ZUKUNFT HANDWERK 2026]
X-WR-CALNAME:Eröffnung SIGNAL IDUNA Forum [ZUKUNFT HANDWERK 2026]
BEGIN:VTIMEZONE
TZID:Europe/Zurich
BEGIN:STANDARD
DTSTART:20251026T030000
TZOFFSETFROM:+0200
TZOFFSETTO:+0100
END:STANDARD
BEGIN:DAYLIGHT
DTSTART:20260329T020000
TZOFFSETFROM:+0100
TZOFFSETTO:+0200
END:DAYLIGHT
END:VTIMEZONE
BEGIN:VTIMEZONE
TZID:UTC
BEGIN:STANDARD
DTSTART:20250724T171240
TZOFFSETFROM:+0000
TZOFFSETTO:+0000
END:STANDARD
END:VTIMEZONE
BEGIN:VEVENT
UID:69e65e88929b9
DTSTAMP:20260420T171240Z
DTSTART;TZID=Europe/Zurich:20260304T115500
DTEND;TZID=Europe/Zurich:20260304T120000
SUMMARY:Eröffnung SIGNAL IDUNA Forum [ZUKUNFT HANDWERK 2026]
DESCRIPTION:https://connect.zukunfthandwerk.com/de/e/eroeffnung-signal-idun
 a-forum.78193\n\nDie Bühne wird durch Alexandra Markovic-Sobau\, Vertrieb
 svorständin des Bühnen-Sponsors SIGNAL IDUNA\, eröffnet. Das Handwerk i
 st für SIGNAL IDUNA eine Herzensangelegenheit und ZUKUNFT HANDWERK die pe
 rfekte Plattform\, um gemeinsam nach vorne zu blicken.
LOCATION:ICM\, Halle B0
END:VEVENT
END:VCALENDAR