BEGIN:VCALENDAR
VERSION:2.0
PRODID:spatie/icalendar-generator
NAME:Sicherheit und Verteidigung: Zukunftsmärkte des Handwerks?! [ZUKUNFT 
 HANDWERK 2026]
X-WR-CALNAME:Sicherheit und Verteidigung: Zukunftsmärkte des Handwerks?! [
 ZUKUNFT HANDWERK 2026]
BEGIN:VTIMEZONE
TZID:Europe/Zurich
BEGIN:STANDARD
DTSTART:20251026T030000
TZOFFSETFROM:+0200
TZOFFSETTO:+0100
END:STANDARD
BEGIN:DAYLIGHT
DTSTART:20260329T020000
TZOFFSETFROM:+0100
TZOFFSETTO:+0200
END:DAYLIGHT
END:VTIMEZONE
BEGIN:VTIMEZONE
TZID:UTC
BEGIN:STANDARD
DTSTART:20250724T102747
TZOFFSETFROM:+0000
TZOFFSETTO:+0000
END:STANDARD
END:VTIMEZONE
BEGIN:VEVENT
UID:69e5ffa3e66e6
DTSTAMP:20260420T102747Z
DTSTART;TZID=Europe/Zurich:20260305T124500
DTEND;TZID=Europe/Zurich:20260305T133000
SUMMARY:Sicherheit und Verteidigung: Zukunftsmärkte des Handwerks?! [ZUKUN
 FT HANDWERK 2026]
DESCRIPTION:https://connect.zukunfthandwerk.com/de/e/sicherheit-und-verteid
 igung-zukunftsmaerkte-des-handwerks.78212\n\nWie sehr kann das Handwerk di
 e Sicherheits- und Verteidigungsindustrie unterstützen und nutzen? Wie se
 hr braucht die Industrie das Handwerk? Experten diskutieren die Herausford
 erungen und Chancen\, die sich aus der zunehmenden Bedeutung der Sicherhei
 ts- und Verteidigungsindustrie ergeben.
LOCATION:ICM\, Halle B0
END:VEVENT
END:VCALENDAR