BEGIN:VCALENDAR
VERSION:2.0
PRODID:spatie/icalendar-generator
NAME:Mutterschutz für Selbstständige: Erfahrungen\, Herausforderungen und
  Perspektiven [ZUKUNFT HANDWERK 2026]
X-WR-CALNAME:Mutterschutz für Selbstständige: Erfahrungen\, Herausforderu
 ngen und Perspektiven [ZUKUNFT HANDWERK 2026]
BEGIN:VTIMEZONE
TZID:Europe/Zurich
BEGIN:STANDARD
DTSTART:20251026T030000
TZOFFSETFROM:+0200
TZOFFSETTO:+0100
END:STANDARD
BEGIN:DAYLIGHT
DTSTART:20260329T020000
TZOFFSETFROM:+0100
TZOFFSETTO:+0200
END:DAYLIGHT
END:VTIMEZONE
BEGIN:VTIMEZONE
TZID:UTC
BEGIN:STANDARD
DTSTART:20250724T103920
TZOFFSETFROM:+0000
TZOFFSETTO:+0000
END:STANDARD
END:VTIMEZONE
BEGIN:VEVENT
UID:69e6025896738
DTSTAMP:20260420T103920Z
DTSTART;TZID=Europe/Zurich:20260305T130000
DTEND;TZID=Europe/Zurich:20260305T140000
SUMMARY:Mutterschutz für Selbstständige: Erfahrungen\, Herausforderungen 
 und Perspektiven [ZUKUNFT HANDWERK 2026]
DESCRIPTION:https://connect.zukunfthandwerk.com/de/e/mutterschutz-fuer-selb
 ststaendige-erfahrungen-herausforderungen-und-perspektiven.78251\n\nDer Wo
 rkshop gibt einen Überblick über aktuelle Möglichkeiten zur Absicherung
  einer Schwangerschaft in der Selbstständigkeit sowie über typische Fall
 stricke und verbleibende Risiken.
LOCATION:ICM\, B0
END:VEVENT
END:VCALENDAR