BEGIN:VCALENDAR
VERSION:2.0
PRODID:spatie/icalendar-generator
NAME:Digitale Zahlungslösungen im Einsatz [ZUKUNFT HANDWERK 2026]
X-WR-CALNAME:Digitale Zahlungslösungen im Einsatz [ZUKUNFT HANDWERK 2026]
BEGIN:VTIMEZONE
TZID:Europe/Zurich
BEGIN:STANDARD
DTSTART:20251026T030000
TZOFFSETFROM:+0200
TZOFFSETTO:+0100
END:STANDARD
BEGIN:DAYLIGHT
DTSTART:20260329T020000
TZOFFSETFROM:+0100
TZOFFSETTO:+0200
END:DAYLIGHT
END:VTIMEZONE
BEGIN:VTIMEZONE
TZID:UTC
BEGIN:STANDARD
DTSTART:20250724T152024
TZOFFSETFROM:+0000
TZOFFSETTO:+0000
END:STANDARD
END:VTIMEZONE
BEGIN:VEVENT
UID:69e644380b676
DTSTAMP:20260420T152024Z
DTSTART;TZID=Europe/Zurich:20260305T140000
DTEND;TZID=Europe/Zurich:20260305T150000
SUMMARY:Digitale Zahlungslösungen im Einsatz [ZUKUNFT HANDWERK 2026]
DESCRIPTION:https://connect.zukunfthandwerk.com/de/e/digitale-zahlungsloesu
 ngen-im-einsatz.78256\n\nIn dieser Präsentation zeigen wir Ihnen\, wie di
 gitale Bezahllösungen längst praxistauglich im Handwerk angekommen sind.
  Verständlich\, kompakt und nah am betrieblichen Alltag.
LOCATION:ICM\, Halle B0
END:VEVENT
END:VCALENDAR