BEGIN:VCALENDAR
VERSION:2.0
PRODID:spatie/icalendar-generator
NAME:Live- Stream der Eröffnung der Internationalen Handwerksmesse und ZUK
 UNFT HANDWERK 26 [ZUKUNFT HANDWERK 2026]
X-WR-CALNAME:Live- Stream der Eröffnung der Internationalen Handwerksmesse
  und ZUKUNFT HANDWERK 26 [ZUKUNFT HANDWERK 2026]
BEGIN:VTIMEZONE
TZID:Europe/Zurich
BEGIN:STANDARD
DTSTART:20251026T030000
TZOFFSETFROM:+0200
TZOFFSETTO:+0100
END:STANDARD
BEGIN:DAYLIGHT
DTSTART:20260329T020000
TZOFFSETFROM:+0100
TZOFFSETTO:+0200
END:DAYLIGHT
END:VTIMEZONE
BEGIN:VTIMEZONE
TZID:UTC
BEGIN:STANDARD
DTSTART:20250724T152019
TZOFFSETFROM:+0000
TZOFFSETTO:+0000
END:STANDARD
END:VTIMEZONE
BEGIN:VEVENT
UID:69e64433a3209
DTSTAMP:20260420T152019Z
DTSTART;TZID=Europe/Zurich:20260304T100000
DTEND;TZID=Europe/Zurich:20260304T113000
SUMMARY:Live- Stream der Eröffnung der Internationalen Handwerksmesse und 
 ZUKUNFT HANDWERK 26 [ZUKUNFT HANDWERK 2026]
DESCRIPTION:https://connect.zukunfthandwerk.com/de/e/live-stream-der-eroeff
 nung-der-internationalen-handwerksmesse-und-zukunft-handwerk-26.78322\n\nA
 uf dem SIGNAL IDUNA Forum stehen ihnen Sitz- und Stehplätze zur Verfügun
 g\, um die Eröffnung der Internationalen Handwerksmesse und von ZUKUNFT H
 ANDWERK 26 live zu verfolgen.
LOCATION:ICM\, Halle B0
END:VEVENT
END:VCALENDAR