BEGIN:VCALENDAR
VERSION:2.0
PRODID:spatie/icalendar-generator
NAME:Handwerk trifft Wissenschaft: Die Seifriz-Preisträger 2026 stellen si
 ch vor [ZUKUNFT HANDWERK 2026]
X-WR-CALNAME:Handwerk trifft Wissenschaft: Die Seifriz-Preisträger 2026 st
 ellen sich vor [ZUKUNFT HANDWERK 2026]
BEGIN:VTIMEZONE
TZID:Europe/Zurich
BEGIN:STANDARD
DTSTART:20251026T030000
TZOFFSETFROM:+0200
TZOFFSETTO:+0100
END:STANDARD
BEGIN:DAYLIGHT
DTSTART:20260329T020000
TZOFFSETFROM:+0100
TZOFFSETTO:+0200
END:DAYLIGHT
END:VTIMEZONE
BEGIN:VTIMEZONE
TZID:UTC
BEGIN:STANDARD
DTSTART:20250724T102752
TZOFFSETFROM:+0000
TZOFFSETTO:+0000
END:STANDARD
END:VTIMEZONE
BEGIN:VEVENT
UID:69e5ffa8e8647
DTSTAMP:20260420T102752Z
DTSTART;TZID=Europe/Zurich:20260305T140000
DTEND;TZID=Europe/Zurich:20260305T143000
SUMMARY:Handwerk trifft Wissenschaft: Die Seifriz-Preisträger 2026 stellen
  sich vor [ZUKUNFT HANDWERK 2026]
DESCRIPTION:https://connect.zukunfthandwerk.com/de/e/handwerk-trifft-wissen
 schaft-die-seifriz-preistraeger-2026-stellen-sich-vor.78324\n\nDer bundesw
 eite Innovationspreis „Seifriz – Transfer Handwerk + Wissenschaft“ z
 eichnet seit 1989 herausragende Kooperationen zwischen Handwerksbetrieben 
 und Forschungseinrichtungen aus.
LOCATION:ICM\, Halle B0
END:VEVENT
END:VCALENDAR